BEGIN:VCALENDAR
VERSION:2.0
PRODID:icalendar-ruby
CALSCALE:GREGORIAN
METHOD:PUBLISH
BEGIN:VEVENT
DTSTAMP:20260425T141613Z
UID:15-269175@greenmountain.tithelysetup2.com
DTSTART:20260509T160000Z
DTEND:20260509T180000Z
CLASS:PUBLIC
CREATED:20260424T083047
DESCRIPTION:
LAST-MODIFIED:20260424T083047
LOCATION:12755 W. Cedar Drive\, Lakewood CO 80228
SUMMARY:Celebration of Life for Betsy Powers
URL;VALUE=URI:https://gmumc.com/events/celebration-of-life-for-betsy-powers
 /2026-05-09
ATTACH;FILENAME=Picture1.png;FMTTYPE=image/png:https://dq5pwpg1q8ru0.cloudf
 ront.net/2026/04/24/14/30/46/62b7b900-4863-467b-b6f7-bb6b4ce94c9f/Picture1
 .png
END:VEVENT
END:VCALENDAR
